BEGIN:VCALENDAR
VERSION:2.0
PRODID:-//Bündnis C | Landesverband Bayern - ECPv6.15.11//NONSGML v1.0//EN
CALSCALE:GREGORIAN
METHOD:PUBLISH
X-WR-CALNAME:Bündnis C | Landesverband Bayern
X-ORIGINAL-URL:https://bayern.buendnis-c.de
X-WR-CALDESC:Veranstaltungen für Bündnis C | Landesverband Bayern
REFRESH-INTERVAL;VALUE=DURATION:PT1H
X-Robots-Tag:noindex
X-PUBLISHED-TTL:PT1H
BEGIN:VTIMEZONE
TZID:Europe/Berlin
BEGIN:DAYLIGHT
TZOFFSETFROM:+0100
TZOFFSETTO:+0200
TZNAME:CEST
DTSTART:20190331T010000
END:DAYLIGHT
BEGIN:STANDARD
TZOFFSETFROM:+0200
TZOFFSETTO:+0100
TZNAME:CET
DTSTART:20191027T010000
END:STANDARD
BEGIN:DAYLIGHT
TZOFFSETFROM:+0100
TZOFFSETTO:+0200
TZNAME:CEST
DTSTART:20200329T010000
END:DAYLIGHT
BEGIN:STANDARD
TZOFFSETFROM:+0200
TZOFFSETTO:+0100
TZNAME:CET
DTSTART:20201025T010000
END:STANDARD
BEGIN:DAYLIGHT
TZOFFSETFROM:+0100
TZOFFSETTO:+0200
TZNAME:CEST
DTSTART:20210328T010000
END:DAYLIGHT
BEGIN:STANDARD
TZOFFSETFROM:+0200
TZOFFSETTO:+0100
TZNAME:CET
DTSTART:20211031T010000
END:STANDARD
END:VTIMEZONE
BEGIN:VEVENT
DTSTART;TZID=Europe/Berlin:20200614T100000
DTEND;TZID=Europe/Berlin:20200614T180000
DTSTAMP:20260426T062050
CREATED:20200520T104300Z
LAST-MODIFIED:20200520T104300Z
UID:248-1592128800-1592157600@bayern.buendnis-c.de
SUMMARY:Hofer Umwelttag „Wasser – Wiege des Lebens“
DESCRIPTION:Für Standideen sind wir gern offen – Infos: Jörg Werner
URL:https://bayern.buendnis-c.de/termin/hofer-umwelttag-wasser-wiege-des-lebens/
LOCATION:Bayern
CATEGORIES:Externe Veranstaltung
END:VEVENT
END:VCALENDAR