BEGIN:VCALENDAR
VERSION:2.0
PRODID:-//Bündnis C | Landesverband Bayern - ECPv6.15.11//NONSGML v1.0//EN
CALSCALE:GREGORIAN
METHOD:PUBLISH
X-ORIGINAL-URL:https://bayern.buendnis-c.de
X-WR-CALDESC:Veranstaltungen für Bündnis C | Landesverband Bayern
REFRESH-INTERVAL;VALUE=DURATION:PT1H
X-Robots-Tag:noindex
X-PUBLISHED-TTL:PT1H
BEGIN:VTIMEZONE
TZID:Europe/Berlin
BEGIN:DAYLIGHT
TZOFFSETFROM:+0100
TZOFFSETTO:+0200
TZNAME:CEST
DTSTART:20210328T010000
END:DAYLIGHT
BEGIN:STANDARD
TZOFFSETFROM:+0200
TZOFFSETTO:+0100
TZNAME:CET
DTSTART:20211031T010000
END:STANDARD
BEGIN:DAYLIGHT
TZOFFSETFROM:+0100
TZOFFSETTO:+0200
TZNAME:CEST
DTSTART:20220327T010000
END:DAYLIGHT
BEGIN:STANDARD
TZOFFSETFROM:+0200
TZOFFSETTO:+0100
TZNAME:CET
DTSTART:20221030T010000
END:STANDARD
BEGIN:DAYLIGHT
TZOFFSETFROM:+0100
TZOFFSETTO:+0200
TZNAME:CEST
DTSTART:20230326T010000
END:DAYLIGHT
BEGIN:STANDARD
TZOFFSETFROM:+0200
TZOFFSETTO:+0100
TZNAME:CET
DTSTART:20231029T010000
END:STANDARD
END:VTIMEZONE
BEGIN:VEVENT
DTSTART;TZID=Europe/Berlin:20221204T150000
DTEND;TZID=Europe/Berlin:20221204T180000
DTSTAMP:20260424T090056
CREATED:20221121T144054Z
LAST-MODIFIED:20221121T155225Z
UID:1015-1670166000-1670176800@bayern.buendnis-c.de
SUMMARY:Arbeitsworkshop in München und online
DESCRIPTION:Liebe Mitglieder von Bündnis C in Bayern\, \nganz herzlich lädt Sie der Landesvorstand von Bündnis C – Christen für Deutschland Bayern zum nächsten Arbeitsworkshop ein.\nDer Workshop findet am Sonntag den 04.12.2022 von 15:00 Uhr bis ca. 18:00 Uhr in den Räumen des „MMA & Combat Gym“\, Martin-Kollar-Str. 10\, 81829 München statt. \nDie Veranstaltung wird in Präsenz abhalten. Begleitend wird die Möglichkeit bestehen\, online via Zoom teilzunehmen.\nDer Workshop ist für alle Mitglieder geeignet\, die aktiv in Bayern mitarbeiten wollen. Die Themen für diesen Workshop sind Öffentlichkeitsarbeit\, Netzwerken und Lebensschutz. \nDie Teilnehmer werden gebeten\, sich persönlich oder über Email bei horst.wodarz@buendnis-c.de bis zum 03.12.2022 um 12 Uhr anzumelden. \nWir freuen uns darauf\, Sie wiederzusehen und mit Ihnen gemeinsam Ideen und Strategien für Bündnis C zu entwerfen und umzusetzen. Sie werden vor Ort auch Informationen und Material erhalten\, um Bündnis C in Ihrer Region bekannt zu machen und sich zu vernetzen. \nEin herzliches Willkommen zum Arbeitsworkshop! \nIm Namen des Landesvorstandes \nHorst Wodarz \nLandesvorstand Bayern
URL:https://bayern.buendnis-c.de/termin/arbeitsworkshop-in-muenchen-und-online-2/
LOCATION:„MMA & Combat Gym“\, Martin-Kollar-Str. 10\, München\, BY\, Deutschland
CATEGORIES:Parteiveranstaltung
ATTACH;FMTTYPE=image/jpeg:https://bayern.buendnis-c.de/wp-content/uploads/sites/5/2022/06/job-5382501_1280.jpg
ORGANIZER;CN="B%C3%BCndnis C LV Bayern":MAILTO:horst.wodarz@buendnis-c.de
END:VEVENT
END:VCALENDAR