BEGIN:VCALENDAR
VERSION:2.0
PRODID:-//Bündnis C | Landesverband Bayern - ECPv6.15.11//NONSGML v1.0//EN
CALSCALE:GREGORIAN
METHOD:PUBLISH
X-WR-CALNAME:Bündnis C | Landesverband Bayern
X-ORIGINAL-URL:https://bayern.buendnis-c.de
X-WR-CALDESC:Veranstaltungen für Bündnis C | Landesverband Bayern
REFRESH-INTERVAL;VALUE=DURATION:PT1H
X-Robots-Tag:noindex
X-PUBLISHED-TTL:PT1H
BEGIN:VTIMEZONE
TZID:Europe/Berlin
BEGIN:DAYLIGHT
TZOFFSETFROM:+0100
TZOFFSETTO:+0200
TZNAME:CEST
DTSTART:20230326T010000
END:DAYLIGHT
BEGIN:STANDARD
TZOFFSETFROM:+0200
TZOFFSETTO:+0100
TZNAME:CET
DTSTART:20231029T010000
END:STANDARD
BEGIN:DAYLIGHT
TZOFFSETFROM:+0100
TZOFFSETTO:+0200
TZNAME:CEST
DTSTART:20240331T010000
END:DAYLIGHT
BEGIN:STANDARD
TZOFFSETFROM:+0200
TZOFFSETTO:+0100
TZNAME:CET
DTSTART:20241027T010000
END:STANDARD
BEGIN:DAYLIGHT
TZOFFSETFROM:+0100
TZOFFSETTO:+0200
TZNAME:CEST
DTSTART:20250330T010000
END:DAYLIGHT
BEGIN:STANDARD
TZOFFSETFROM:+0200
TZOFFSETTO:+0100
TZNAME:CET
DTSTART:20251026T010000
END:STANDARD
END:VTIMEZONE
BEGIN:VEVENT
DTSTART;TZID=Europe/Berlin:20240302T110000
DTEND;TZID=Europe/Berlin:20240302T160000
DTSTAMP:20260423T073633
CREATED:20240229T142832Z
LAST-MODIFIED:20240229T142832Z
UID:1271-1709377200-1709395200@bayern.buendnis-c.de
SUMMARY:Landesparteitag in München
DESCRIPTION:
URL:https://bayern.buendnis-c.de/termin/landesparteitag-in-muenchen-2/
LOCATION:„MMA & Combat Gym“\, Martin-Kollar-Str. 10\, München\, BY\, Deutschland
CATEGORIES:Parteiveranstaltung
ORGANIZER;CN="B%C3%BCndnis C LV Bayern":MAILTO:horst.wodarz@buendnis-c.de
END:VEVENT
END:VCALENDAR